BEGIN:VCALENDAR
VERSION:2.0
METHOD:PUBLISH
PRODID::-//Obvius//NONSGML ICal//DA
BEGIN:VEVENT
UID:4720808@ceh.ku.dk
DESCRIPTION: Sergei Kliver will be defending his PhD thesis "Chromosomics 
 of the selected Caniformia species” on the 20th June\, 1315\, in Kommune
 hospital room 7-1-46.\n\nhttps://ceh.ku.dk/calendar/events-2024/phd-defenc
 e-by-sergei-kliver/
SUMMARY:PhD defence by Sergei Kliver
CATEGORIES:Ph.d.-forsvar
LOCATION:CSS 7.1.46\, Teaching Room (City Campus\, building 7\, first floo
 r\, room 146)
ORGANIZER:Center for Evolutionary Hologenomics
DTSTART:20240620T111500Z
DTSTAMP:20240620T111500Z
END:VEVENT
END:VCALENDAR
